BEGIN:VCALENDAR
PRODID:-//AT Content Types//AT Event//EN
VERSION:2.0
METHOD:PUBLISH
BEGIN:VEVENT
DTSTAMP:20260421T004216Z
CREATED:20190816T140627Z
UID:ATEvent-a3360920cd8c42d5bba5224f3d4cecda
LAST-MODIFIED:20190816T140916Z
SUMMARY:An Êvent
DTSTART:20160201T000000Z
DTEND:20180201T000000Z
DESCRIPTION:This consultation has an Event going on.  It contains üni
 code.
CLASS:PUBLIC
END:VEVENT
END:VCALENDAR
